BEGIN:VCALENDAR
VERSION:2.0
PRODID:-//tltinfo.org//NONSGML kigkonsult.se iCalcreator 2.30.10//
CALSCALE:GREGORIAN
METHOD:PUBLISH
UID:aad8ff6f-9167-48fc-bc02-9f5aa6f6329c
X-WR-CALDESC:
X-WR-RELCALID:c2c57c22ee458b1d805c1c059ac09c18
X-WR-TIMEZONE:America/New_York
BEGIN:VTIMEZONE
TZID:America/New_York
BEGIN:STANDARD
TZNAME:EST
DTSTART:20251102T020000
TZOFFSETFROM:-0400
TZOFFSETTO:-0500
RDATE:20261101T020000
RDATE:20271107T020000
END:STANDARD
BEGIN:DAYLIGHT
TZNAME:EDT
DTSTART:20260308T020000
TZOFFSETFROM:-0500
TZOFFSETTO:-0400
RDATE:20270314T020000
END:DAYLIGHT
END:VTIMEZONE
BEGIN:VEVENT
UID:55512013-620c-4ac9-b310-355aeea95c2d
DTSTAMP:20260424T105332Z
DESCRIPTION:
DTSTART;TZID=America/New_York:20260719T150000
DTEND;TZID=America/New_York:20260719T170000
LOCATION:Tryon Fine Arts Center\, 34 Melrose Avenue\, Tryon\, NC 28782 US
SUMMARY:Newsies\, summer youth show
END:VEVENT
END:VCALENDAR
