BEGIN:VCALENDAR
VERSION:2.0
PRODID:-//tltinfo.org//NONSGML kigkonsult.se iCalcreator 2.30.10//
CALSCALE:GREGORIAN
METHOD:PUBLISH
UID:6a67e6d6-03f0-4605-a1aa-ebdf4ab24c28
X-WR-CALDESC:
X-WR-RELCALID:7e795755285df9da05f28dc54385ad34
X-WR-TIMEZONE:America/New_York
BEGIN:VTIMEZONE
TZID:America/New_York
BEGIN:STANDARD
TZNAME:EST
DTSTART:20251102T020000
TZOFFSETFROM:-0400
TZOFFSETTO:-0500
RDATE:20261101T020000
RDATE:20271107T020000
END:STANDARD
BEGIN:DAYLIGHT
TZNAME:EDT
DTSTART:20260308T020000
TZOFFSETFROM:-0500
TZOFFSETTO:-0400
RDATE:20270314T020000
END:DAYLIGHT
END:VTIMEZONE
BEGIN:VEVENT
UID:3473c9c9-8109-41c3-bbb0-b687f69443ca
DTSTAMP:20260424T105156Z
DESCRIPTION:
DTSTART;TZID=America/New_York:20260718T193000
DTEND;TZID=America/New_York:20260718T213000
LOCATION:Tryon Fine Arts Center\, 34 Melrose Avenue\, Tryon\, NC 28782 US
SUMMARY:Newsies\, summer youth show
END:VEVENT
END:VCALENDAR
