BEGIN:VCALENDAR
VERSION:2.0
PRODID:-//tltinfo.org//NONSGML kigkonsult.se iCalcreator 2.30.10//
CALSCALE:GREGORIAN
METHOD:PUBLISH
UID:952db976-fe98-4d12-988e-914adba55d9d
X-WR-CALDESC:
X-WR-RELCALID:80343cf86a01c17c9dd77294bc2d4e84
X-WR-TIMEZONE:America/New_York
BEGIN:VTIMEZONE
TZID:America/New_York
BEGIN:STANDARD
TZNAME:EST
DTSTART:20251102T020000
TZOFFSETFROM:-0400
TZOFFSETTO:-0500
RDATE:20261101T020000
RDATE:20271107T020000
END:STANDARD
BEGIN:DAYLIGHT
TZNAME:EDT
DTSTART:20260308T020000
TZOFFSETFROM:-0500
TZOFFSETTO:-0400
RDATE:20270314T020000
END:DAYLIGHT
END:VTIMEZONE
BEGIN:VEVENT
UID:1fdc795c-cec3-4587-b259-b06e2d0185aa
DTSTAMP:20260424T104639Z
DESCRIPTION:
DTSTART;TZID=America/New_York:20260717T193000
DTEND;TZID=America/New_York:20260717T213000
LOCATION:Tryon Fine Arts Center\, 34 Melrose Avenue\, Tryon\, NC 28782 US
SUMMARY:Newsies\, summer youth show
END:VEVENT
END:VCALENDAR
