BEGIN:VCALENDAR
VERSION:2.0
PRODID:-//tltinfo.org//NONSGML kigkonsult.se iCalcreator 2.30.10//
CALSCALE:GREGORIAN
METHOD:PUBLISH
UID:e93b8c6f-7cd7-4293-9aa9-09840d288adf
X-WR-CALDESC:
X-WR-RELCALID:44199a201cc7c2045068ff869e017cba
X-WR-TIMEZONE:America/New_York
BEGIN:VTIMEZONE
TZID:America/New_York
BEGIN:STANDARD
TZNAME:EST
DTSTART:20251102T020000
TZOFFSETFROM:-0400
TZOFFSETTO:-0500
RDATE:20261101T020000
RDATE:20271107T020000
END:STANDARD
BEGIN:DAYLIGHT
TZNAME:EDT
DTSTART:20260308T020000
TZOFFSETFROM:-0500
TZOFFSETTO:-0400
RDATE:20270314T020000
END:DAYLIGHT
END:VTIMEZONE
BEGIN:VEVENT
UID:24dcb043-e544-4e7b-a284-011b5e7f389b
DTSTAMP:20260424T104813Z
DESCRIPTION:
DTSTART;TZID=America/New_York:20260716T193000
DTEND;TZID=America/New_York:20260716T213000
LOCATION:Tryon Fine Arts Center\, 34 Melrose Avenue\, Tryon\, NC 28782 US
SUMMARY:Newsies\, summer youth show
END:VEVENT
END:VCALENDAR
