BEGIN:VCALENDAR
VERSION:2.0
PRODID:-//tltinfo.org//NONSGML kigkonsult.se iCalcreator 2.30.10//
CALSCALE:GREGORIAN
METHOD:PUBLISH
UID:ab5d2d40-2eff-4780-a0ad-22390e679e33
X-WR-CALDESC:Auditions will be held at the Sunnydale log cabin\, next to Do
 llar General on S. Trade St.\, Tryon.
X-WR-RELCALID:79012023337bc47f235efab33197e31b
X-WR-TIMEZONE:America/New_York
BEGIN:VTIMEZONE
TZID:America/New_York
BEGIN:STANDARD
TZNAME:EST
DTSTART:20221106T020000
TZOFFSETFROM:-0400
TZOFFSETTO:-0500
RDATE:20231105T020000
RDATE:20241103T020000
END:STANDARD
BEGIN:DAYLIGHT
TZNAME:EDT
DTSTART:20230312T020000
TZOFFSETFROM:-0500
TZOFFSETTO:-0400
RDATE:20240310T020000
END:DAYLIGHT
END:VTIMEZONE
BEGIN:VEVENT
UID:8c97f8ee-ff07-4325-9a4d-f26f13c80436
DTSTAMP:20260424T133717Z
DESCRIPTION:Auditions will be held at the Sunnydale log cabin\, next to Dol
 lar General on S. Trade St.\, Tryon.
DTSTART;TZID=America/New_York:20230716T150000
DTEND;TZID=America/New_York:20230716T170000
LOCATION:
SUMMARY:Auditions for 'Honky Tonk Angels'
END:VEVENT
END:VCALENDAR
