BEGIN:VCALENDAR
VERSION:2.0
PRODID:-//tltinfo.org//NONSGML kigkonsult.se iCalcreator 2.30.10//
CALSCALE:GREGORIAN
METHOD:PUBLISH
UID:3f0bb9db-5ec3-4d5f-8b48-aa45706698e5
X-WR-CALDESC:Presented at Tryon Little Theater Workshop\, 516 S. Trade St.\
 , Tryon. Tickets $20 (student tickets $12)
X-WR-RELCALID:4b77c7605a2323b6e2caee0d5bd2e7ae
X-WR-TIMEZONE:America/New_York
BEGIN:VTIMEZONE
TZID:America/New_York
BEGIN:STANDARD
TZNAME:EST
DTSTART:20221106T020000
TZOFFSETFROM:-0400
TZOFFSETTO:-0500
RDATE:20231105T020000
END:STANDARD
BEGIN:DAYLIGHT
TZNAME:EDT
DTSTART:20220313T020000
TZOFFSETFROM:-0500
TZOFFSETTO:-0400
RDATE:20230312T020000
RDATE:20240310T020000
END:DAYLIGHT
END:VTIMEZONE
BEGIN:VEVENT
UID:9a05b3c7-1503-45e9-86cd-a38b4d9f8f66
DTSTAMP:20260426T021641Z
DESCRIPTION:Presented at Tryon Little Theater Workshop\, 516 S. Trade St.\,
  Tryon. Tickets $20 (student tickets $12)
DTSTART;TZID=America/New_York:20221110T193000
DTEND;TZID=America/New_York:20221110T213000
LOCATION:
SUMMARY:Dearly Departed
END:VEVENT
END:VCALENDAR
