BEGIN:VCALENDAR
VERSION:2.0
PRODID:-//tltinfo.org//NONSGML kigkonsult.se iCalcreator 2.30.10//
CALSCALE:GREGORIAN
METHOD:PUBLISH
UID:b2ac45d7-8f18-4831-a125-8ecd15d82834
X-WR-CALDESC:Presented at Tryon Fine Arts Center\, 34 Melrose Ave.\, Tryon.
  Tickets $25 (student tickets $12)
X-WR-RELCALID:736984290edfe9b68bf5cdcc4c965664
X-WR-TIMEZONE:America/New_York
BEGIN:VTIMEZONE
TZID:America/New_York
BEGIN:STANDARD
TZNAME:EST
DTSTART:20211107T020000
TZOFFSETFROM:-0400
TZOFFSETTO:-0500
RDATE:20221106T020000
RDATE:20231105T020000
END:STANDARD
BEGIN:DAYLIGHT
TZNAME:EDT
DTSTART:20220313T020000
TZOFFSETFROM:-0500
TZOFFSETTO:-0400
RDATE:20230312T020000
RDATE:20240310T020000
END:DAYLIGHT
END:VTIMEZONE
BEGIN:VEVENT
UID:4673f1fb-7507-4b8b-9432-0e828647c5ba
DTSTAMP:20260422T145742Z
DESCRIPTION:Presented at Tryon Fine Arts Center\, 34 Melrose Ave.\, Tryon. 
 Tickets $25 (student tickets $12)
DTSTART;TZID=America/New_York:20220925T150000
DTEND;TZID=America/New_York:20220925T170000
LOCATION:
SUMMARY:Pump Boys and Dinettes
END:VEVENT
END:VCALENDAR
