BEGIN:VCALENDAR
VERSION:2.0
PRODID:-//tltinfo.org//NONSGML kigkonsult.se iCalcreator 2.30.10//
CALSCALE:GREGORIAN
METHOD:PUBLISH
UID:997a6d3b-12a4-424c-a340-5422d41b8a1d
X-WR-CALDESC:Presented at Tryon Fine Arts Center\, 34 Melrose Ave.\, Tryon.
  Tickets $25 (student tickets $12)
X-WR-RELCALID:f52d36deae194ce40027b7e8cb07881f
X-WR-TIMEZONE:America/New_York
BEGIN:VTIMEZONE
TZID:America/New_York
BEGIN:STANDARD
TZNAME:EST
DTSTART:20211107T020000
TZOFFSETFROM:-0400
TZOFFSETTO:-0500
RDATE:20221106T020000
RDATE:20231105T020000
END:STANDARD
BEGIN:DAYLIGHT
TZNAME:EDT
DTSTART:20220313T020000
TZOFFSETFROM:-0500
TZOFFSETTO:-0400
RDATE:20230312T020000
RDATE:20240310T020000
END:DAYLIGHT
END:VTIMEZONE
BEGIN:VEVENT
UID:d4bbcb12-6bbc-42b5-8252-c289174bab4a
DTSTAMP:20260422T150025Z
DESCRIPTION:Presented at Tryon Fine Arts Center\, 34 Melrose Ave.\, Tryon. 
 Tickets $25 (student tickets $12)
DTSTART;TZID=America/New_York:20220922T193000
DTEND;TZID=America/New_York:20220922T213000
LOCATION:
SUMMARY:Pump Boys and Dinettes
END:VEVENT
END:VCALENDAR
