BEGIN:VCALENDAR
VERSION:2.0
PRODID:-//tltinfo.org//NONSGML kigkonsult.se iCalcreator 2.30.10//
CALSCALE:GREGORIAN
METHOD:PUBLISH
UID:69695ff4-2c49-47cc-af96-57235e0f882d
X-WR-CALDESC:Callbacks (if needed) for 'Dearly Departed' auditions\, TLT Wo
 rkshop\, 516 S. Trade St.\, Tryon. Directed by Tena Greene-Porter\, 'Dearl
 y Departed' will be presented Nov. 10-13 and 17-20\, 2022\, at the TLT Wor
 kshop.
X-WR-RELCALID:d58c9f3eae064bf7162e6e3697ea7659
X-WR-TIMEZONE:America/New_York
BEGIN:VTIMEZONE
TZID:America/New_York
BEGIN:STANDARD
TZNAME:EST
DTSTART:20211107T020000
TZOFFSETFROM:-0400
TZOFFSETTO:-0500
RDATE:20221106T020000
RDATE:20231105T020000
END:STANDARD
BEGIN:DAYLIGHT
TZNAME:EDT
DTSTART:20220313T020000
TZOFFSETFROM:-0500
TZOFFSETTO:-0400
RDATE:20230312T020000
RDATE:20240310T020000
END:DAYLIGHT
END:VTIMEZONE
BEGIN:VEVENT
UID:a77e44d7-79c6-4162-b953-c6b9e79c4ad7
DTSTAMP:20260422T145718Z
DESCRIPTION:Callbacks (if needed) for 'Dearly Departed' auditions\, TLT Wor
 kshop\, 516 S. Trade St.\, Tryon. Directed by Tena Greene-Porter\, 'Dearly
  Departed' will be presented Nov. 10-13 and 17-20\, 2022\, at the TLT Work
 shop.
DTSTART;TZID=America/New_York:20220921T183000
DTEND;TZID=America/New_York:20220921T193000
LOCATION:
SUMMARY:Callbacks (if needed) for 'Dearly Departed' auditions
END:VEVENT
END:VCALENDAR
