BEGIN:VCALENDAR
VERSION:2.0
PRODID:-//tltinfo.org//NONSGML kigkonsult.se iCalcreator 2.30.10//
CALSCALE:GREGORIAN
METHOD:PUBLISH
UID:5ed06531-a102-4230-ab37-c6ed024ac932
X-WR-CALDESC:Auditions for 'Dearly Departed\,' TLT Workshop\, 516 S. Trade 
 St.\, Tryon. Directed by Tena Greene-Porter\, 'Dearly Departed' will be pr
 esented Nov. 10-13 and 17-20\, 2022\, at the TLT Workshop.
X-WR-RELCALID:25679565529791378994b78a850323f4
X-WR-TIMEZONE:America/New_York
BEGIN:VTIMEZONE
TZID:America/New_York
BEGIN:STANDARD
TZNAME:EST
DTSTART:20211107T020000
TZOFFSETFROM:-0400
TZOFFSETTO:-0500
RDATE:20221106T020000
RDATE:20231105T020000
END:STANDARD
BEGIN:DAYLIGHT
TZNAME:EDT
DTSTART:20220313T020000
TZOFFSETFROM:-0500
TZOFFSETTO:-0400
RDATE:20230312T020000
RDATE:20240310T020000
END:DAYLIGHT
END:VTIMEZONE
BEGIN:VEVENT
UID:60ba5ebe-20cd-4247-b848-7abc960d7daf
DTSTAMP:20260422T145302Z
DESCRIPTION:Auditions for 'Dearly Departed\,' TLT Workshop\, 516 S. Trade S
 t.\, Tryon. Directed by Tena Greene-Porter\, 'Dearly Departed' will be pre
 sented Nov. 10-13 and 17-20\, 2022\, at the TLT Workshop.
DTSTART;TZID=America/New_York:20220920T183000
DTEND;TZID=America/New_York:20220920T193000
LOCATION:
SUMMARY:Auditions for 'Dearly Departed'
END:VEVENT
END:VCALENDAR
