BEGIN:VCALENDAR
VERSION:2.0
PRODID:-//tltinfo.org//NONSGML kigkonsult.se iCalcreator 2.30.10//
CALSCALE:GREGORIAN
METHOD:PUBLISH
UID:1902bae2-de0a-41b0-be13-8a871b1facf5
X-WR-CALDESC:Auditions for 'Dearly Departed\,' TLT Workshop\, 516 S. Trade 
 St.\, Tryon. Directed by Tena Greene-Porter\, 'Dearly Departed' will be pr
 esented Nov. 10-13 and 17-20\, 2022\, at the TLT Workshop.
X-WR-RELCALID:6a2608f383804d4b586f628d01cfc118
X-WR-TIMEZONE:America/New_York
BEGIN:VTIMEZONE
TZID:America/New_York
BEGIN:STANDARD
TZNAME:EST
DTSTART:20211107T020000
TZOFFSETFROM:-0400
TZOFFSETTO:-0500
RDATE:20221106T020000
RDATE:20231105T020000
END:STANDARD
BEGIN:DAYLIGHT
TZNAME:EDT
DTSTART:20220313T020000
TZOFFSETFROM:-0500
TZOFFSETTO:-0400
RDATE:20230312T020000
RDATE:20240310T020000
END:DAYLIGHT
END:VTIMEZONE
BEGIN:VEVENT
UID:86298d87-94b8-44a5-bdc9-d61f57de4098
DTSTAMP:20260422T145502Z
DESCRIPTION:Auditions for 'Dearly Departed\,' TLT Workshop\, 516 S. Trade S
 t.\, Tryon. Directed by Tena Greene-Porter\, 'Dearly Departed' will be pre
 sented Nov. 10-13 and 17-20\, 2022\, at the TLT Workshop.
DTSTART;TZID=America/New_York:20220919T183000
DTEND;TZID=America/New_York:20220919T193000
LOCATION:
SUMMARY:Auditions for 'Dearly Departed'
END:VEVENT
END:VCALENDAR
