BEGIN:VCALENDAR
VERSION:2.0
PRODID:-//tltinfo.org//NONSGML kigkonsult.se iCalcreator 2.30.10//
CALSCALE:GREGORIAN
METHOD:PUBLISH
UID:c3c6c635-e748-438c-957b-d4dcc48b52dc
X-WR-CALDESC:Auditions for Pump Boys and Dinettes\, 3 p.m. at the TLT Works
 hop (516 S. Trade St.\, Tryon).
X-WR-RELCALID:123068ba3307589e13caa974775d2f89
X-WR-TIMEZONE:America/New_York
BEGIN:VTIMEZONE
TZID:America/New_York
BEGIN:STANDARD
TZNAME:EST
DTSTART:20211107T020000
TZOFFSETFROM:-0400
TZOFFSETTO:-0500
RDATE:20221106T020000
RDATE:20231105T020000
END:STANDARD
BEGIN:DAYLIGHT
TZNAME:EDT
DTSTART:20220313T020000
TZOFFSETFROM:-0500
TZOFFSETTO:-0400
RDATE:20230312T020000
END:DAYLIGHT
END:VTIMEZONE
BEGIN:VEVENT
UID:d1d6fc8f-efbc-4b47-b502-755a87cb0f4f
DTSTAMP:20260422T132744Z
DESCRIPTION:Auditions for Pump Boys and Dinettes\, 3 p.m. at the TLT Worksh
 op (516 S. Trade St.\, Tryon).
DTSTART;TZID=America/New_York:20220801T190000
DTEND;TZID=America/New_York:20220801T210000
LOCATION:
SUMMARY:Auditions for Pump Boys & Dinettes
END:VEVENT
END:VCALENDAR
