BEGIN:VCALENDAR
VERSION:2.0
PRODID:-//tltinfo.org//NONSGML kigkonsult.se iCalcreator 2.30.10//
CALSCALE:GREGORIAN
METHOD:PUBLISH
UID:34a27fa0-15ee-4592-a44d-2f3ee4189ef8
X-WR-CALDESC:Auditions for Pump Boys and Dinettes\, 3 p.m. at the TLT Works
 hop (516 S. Trade St.\, Tryon).
X-WR-RELCALID:248436c03ba8ed74cc741d3d48f15220
X-WR-TIMEZONE:America/New_York
BEGIN:VTIMEZONE
TZID:America/New_York
BEGIN:STANDARD
TZNAME:EST
DTSTART:20211107T020000
TZOFFSETFROM:-0400
TZOFFSETTO:-0500
RDATE:20221106T020000
RDATE:20231105T020000
END:STANDARD
BEGIN:DAYLIGHT
TZNAME:EDT
DTSTART:20220313T020000
TZOFFSETFROM:-0500
TZOFFSETTO:-0400
RDATE:20230312T020000
END:DAYLIGHT
END:VTIMEZONE
BEGIN:VEVENT
UID:64f33556-7b4b-4c9b-9734-92e77bb800b9
DTSTAMP:20260422T112833Z
DESCRIPTION:Auditions for Pump Boys and Dinettes\, 3 p.m. at the TLT Worksh
 op (516 S. Trade St.\, Tryon).
DTSTART;TZID=America/New_York:20220731T150000
DTEND;TZID=America/New_York:20220731T170000
LOCATION:
SUMMARY:Auditions for Pump Boys & Dinettes
END:VEVENT
END:VCALENDAR
