BEGIN:VCALENDAR
VERSION:2.0
PRODID:-//tltinfo.org//NONSGML kigkonsult.se iCalcreator 2.30.10//
CALSCALE:GREGORIAN
METHOD:PUBLISH
UID:1bbbc5f9-bed7-468a-96f6-9fc869b5947b
X-WR-CALDESC:Presented at TLT Workshop\, 516 S. Trade St.\, Tryon. Tickets 
 $20 for adults\, $12 for students.
X-WR-RELCALID:0bda391cfff32283f6ae6f6b11f46ac5
X-WR-TIMEZONE:America/New_York
BEGIN:VTIMEZONE
TZID:America/New_York
BEGIN:STANDARD
TZNAME:EST
DTSTART:20211107T020000
TZOFFSETFROM:-0400
TZOFFSETTO:-0500
RDATE:20221106T020000
RDATE:20231105T020000
END:STANDARD
BEGIN:DAYLIGHT
TZNAME:EDT
DTSTART:20220313T020000
TZOFFSETFROM:-0500
TZOFFSETTO:-0400
RDATE:20230312T020000
END:DAYLIGHT
END:VTIMEZONE
BEGIN:VEVENT
UID:c93e3659-d094-4648-bec2-34a5037ac0b2
DTSTAMP:20260422T112445Z
DESCRIPTION:Presented at TLT Workshop\, 516 S. Trade St.\, Tryon. Tickets $
 20 for adults\, $12 for students.
DTSTART;TZID=America/New_York:20220515T150000
DTEND;TZID=America/New_York:20220515T170000
LOCATION:
SUMMARY:The Hallelujah Girls
END:VEVENT
END:VCALENDAR
