BEGIN:VCALENDAR
VERSION:2.0
PRODID:-//tltinfo.org//NONSGML kigkonsult.se iCalcreator 2.30.10//
CALSCALE:GREGORIAN
METHOD:PUBLISH
UID:3533e638-1a7f-4bfe-838d-67e99b0d11e7
X-WR-CALDESC:Presented at TLT Workshop\, 516 S. Trade St.\, Tryon. Tickets 
 $20 for adults\, $12 for students.
X-WR-RELCALID:d8c77fba034299b8051ffcc4aab9efb4
X-WR-TIMEZONE:America/New_York
BEGIN:VTIMEZONE
TZID:America/New_York
BEGIN:STANDARD
TZNAME:EST
DTSTART:20211107T020000
TZOFFSETFROM:-0400
TZOFFSETTO:-0500
RDATE:20221106T020000
RDATE:20231105T020000
END:STANDARD
BEGIN:DAYLIGHT
TZNAME:EDT
DTSTART:20220313T020000
TZOFFSETFROM:-0500
TZOFFSETTO:-0400
RDATE:20230312T020000
END:DAYLIGHT
END:VTIMEZONE
BEGIN:VEVENT
UID:ec6b29a2-207c-4b50-8200-3e062776fe66
DTSTAMP:20260422T114203Z
DESCRIPTION:Presented at TLT Workshop\, 516 S. Trade St.\, Tryon. Tickets $
 20 for adults\, $12 for students.
DTSTART;TZID=America/New_York:20220514T193000
DTEND;TZID=America/New_York:20220514T213000
LOCATION:
SUMMARY:The Hallelujah Girls
END:VEVENT
END:VCALENDAR
