BEGIN:VCALENDAR
VERSION:2.0
PRODID:-//tltinfo.org//NONSGML kigkonsult.se iCalcreator 2.30.10//
CALSCALE:GREGORIAN
METHOD:PUBLISH
UID:fb649dea-1d3f-41c5-b5f3-cfc69b8b0371
X-WR-CALDESC:Presented at TLT Workshop\, 516 S. Trade St.\, Tryon. Tickets 
 $20 for adults\, $12 for students.
X-WR-RELCALID:dd70e59ccbd13dd70d16a969542cab03
X-WR-TIMEZONE:America/New_York
BEGIN:VTIMEZONE
TZID:America/New_York
BEGIN:STANDARD
TZNAME:EST
DTSTART:20211107T020000
TZOFFSETFROM:-0400
TZOFFSETTO:-0500
RDATE:20221106T020000
RDATE:20231105T020000
END:STANDARD
BEGIN:DAYLIGHT
TZNAME:EDT
DTSTART:20220313T020000
TZOFFSETFROM:-0500
TZOFFSETTO:-0400
RDATE:20230312T020000
END:DAYLIGHT
END:VTIMEZONE
BEGIN:VEVENT
UID:68e22a28-1ebb-471c-8604-15d4360b5bfd
DTSTAMP:20260422T113303Z
DESCRIPTION:Presented at TLT Workshop\, 516 S. Trade St.\, Tryon. Tickets $
 20 for adults\, $12 for students.
DTSTART;TZID=America/New_York:20220508T150000
DTEND;TZID=America/New_York:20220508T170000
LOCATION:
SUMMARY:The Hallelujah Girls
END:VEVENT
END:VCALENDAR
