BEGIN:VCALENDAR
VERSION:2.0
PRODID:-//tltinfo.org//NONSGML kigkonsult.se iCalcreator 2.30.10//
CALSCALE:GREGORIAN
METHOD:PUBLISH
UID:d574d9ea-d087-447f-b89f-bce4d4519cac
X-WR-CALDESC:Presented at TLT Workshop\, 516 S. Trade St.\, Tryon. Tickets 
 $20 for adults\, $12 for students.
X-WR-RELCALID:233421548ee3c2acc1382df4767343de
X-WR-TIMEZONE:America/New_York
BEGIN:VTIMEZONE
TZID:America/New_York
BEGIN:STANDARD
TZNAME:EST
DTSTART:20211107T020000
TZOFFSETFROM:-0400
TZOFFSETTO:-0500
RDATE:20221106T020000
RDATE:20231105T020000
END:STANDARD
BEGIN:DAYLIGHT
TZNAME:EDT
DTSTART:20220313T020000
TZOFFSETFROM:-0500
TZOFFSETTO:-0400
RDATE:20230312T020000
END:DAYLIGHT
END:VTIMEZONE
BEGIN:VEVENT
UID:26e92dd5-eb28-4efa-af12-de572cfa3ddf
DTSTAMP:20260422T114036Z
DESCRIPTION:Presented at TLT Workshop\, 516 S. Trade St.\, Tryon. Tickets $
 20 for adults\, $12 for students.
DTSTART;TZID=America/New_York:20220507T193000
DTEND;TZID=America/New_York:20220507T213000
LOCATION:
SUMMARY:The Hallelujah Girls
END:VEVENT
END:VCALENDAR
