BEGIN:VCALENDAR
VERSION:2.0
PRODID:-//tltinfo.org//NONSGML kigkonsult.se iCalcreator 2.30.10//
CALSCALE:GREGORIAN
METHOD:PUBLISH
UID:9e489a0d-1e04-4c1e-b228-ea87c210d26a
X-WR-CALDESC:Presented at TLT Workshop\, 516 S. Trade St.\, Tryon. Tickets 
 $20 for adults\, $12 for students.
X-WR-RELCALID:1fddc4ed0bf13ccec84e3eceb2f683de
X-WR-TIMEZONE:America/New_York
BEGIN:VTIMEZONE
TZID:America/New_York
BEGIN:STANDARD
TZNAME:EST
DTSTART:20211107T020000
TZOFFSETFROM:-0400
TZOFFSETTO:-0500
RDATE:20221106T020000
RDATE:20231105T020000
END:STANDARD
BEGIN:DAYLIGHT
TZNAME:EDT
DTSTART:20220313T020000
TZOFFSETFROM:-0500
TZOFFSETTO:-0400
RDATE:20230312T020000
END:DAYLIGHT
END:VTIMEZONE
BEGIN:VEVENT
UID:5353f309-8349-4268-9e7a-825b548c034b
DTSTAMP:20260422T112634Z
DESCRIPTION:Presented at TLT Workshop\, 516 S. Trade St.\, Tryon. Tickets $
 20 for adults\, $12 for students.
DTSTART;TZID=America/New_York:20220506T193000
DTEND;TZID=America/New_York:20220506T213000
LOCATION:
SUMMARY:The Hallelujah Girls
END:VEVENT
END:VCALENDAR
