BEGIN:VCALENDAR
VERSION:2.0
PRODID:-//tltinfo.org//NONSGML kigkonsult.se iCalcreator 2.30.10//
CALSCALE:GREGORIAN
METHOD:PUBLISH
UID:961701e8-3e7e-4c4b-a34f-39b65f6a275a
X-WR-CALDESC:Applications and audition videos for Tryon Little Theater's Su
 e Hipps Memorial Scholarship must be submitted by Monday\, May 2. Please s
 end your application and a link to your audition video to Barbara Tilly at
  bjtilly@gmail.com. Applications and more information may be downloaded he
 re:
X-WR-RELCALID:847f871a63978ac78bd96c054bdb57dd
X-WR-TIMEZONE:America/New_York
BEGIN:VTIMEZONE
TZID:America/New_York
BEGIN:STANDARD
TZNAME:EST
DTSTART:20211107T020000
TZOFFSETFROM:-0400
TZOFFSETTO:-0500
RDATE:20221106T020000
END:STANDARD
BEGIN:DAYLIGHT
TZNAME:EDT
DTSTART:20220313T020000
TZOFFSETFROM:-0500
TZOFFSETTO:-0400
RDATE:20230312T020000
END:DAYLIGHT
END:VTIMEZONE
BEGIN:VEVENT
UID:d32501cc-52ec-4787-8f38-e8450828c033
DTSTAMP:20260422T113133Z
DESCRIPTION:Applications and audition videos for Tryon Little Theater's Sue
  Hipps Memorial Scholarship must be submitted by Monday\, May 2. Please se
 nd your application and a link to your audition video to Barbara Tilly at 
 bjtilly@gmail.com. Applications and more information may be downloaded her
 e:
DTSTART;TZID=America/New_York:20220502T230000
DTEND;TZID=America/New_York:20220502T233000
LOCATION:Tryon Little Theater Workshop\, 516 S. Trade St.\, Tryon\, NC
SUMMARY:Sue Hipps Memorial Scholarship application deadline
END:VEVENT
END:VCALENDAR
