BEGIN:VCALENDAR
VERSION:2.0
PRODID:-//tltinfo.org//NONSGML kigkonsult.se iCalcreator 2.30.10//
CALSCALE:GREGORIAN
METHOD:PUBLISH
UID:5ec64f7d-b05b-49af-99ec-6764c7bc146d
X-WR-CALDESC:Presented at the TLT Workshop\, 516 S. Trade St.\, Tryon. Tick
 ets $25 for adults\, $12 for students.
X-WR-RELCALID:38a0c4ebbc5b89288e59b11f0405fd1d
X-WR-TIMEZONE:America/New_York
BEGIN:VTIMEZONE
TZID:America/New_York
BEGIN:STANDARD
TZNAME:EST
DTSTART:20211107T020000
TZOFFSETFROM:-0400
TZOFFSETTO:-0500
RDATE:20221106T020000
END:STANDARD
BEGIN:DAYLIGHT
TZNAME:EDT
DTSTART:20210314T020000
TZOFFSETFROM:-0500
TZOFFSETTO:-0400
RDATE:20220313T020000
RDATE:20230312T020000
END:DAYLIGHT
END:VTIMEZONE
BEGIN:VEVENT
UID:852e206c-8d16-40ee-8762-6cc2734c5021
DTSTAMP:20260424T104618Z
DESCRIPTION:Presented at the TLT Workshop\, 516 S. Trade St.\, Tryon. Ticke
 ts $25 for adults\, $12 for students.
DTSTART;TZID=America/New_York:20220311T193000
DTEND;TZID=America/New_York:20220311T213000
LOCATION:
SUMMARY:Smoke on the Mountain
END:VEVENT
END:VCALENDAR
