BEGIN:VCALENDAR
VERSION:2.0
PRODID:-//tltinfo.org//NONSGML kigkonsult.se iCalcreator 2.30.10//
CALSCALE:GREGORIAN
METHOD:PUBLISH
UID:c3cfaf80-25b8-4116-949f-2e33a71b9fad
X-WR-CALDESC:A side-splitting Southern comedy directed by Ben Chumley. \nCa
 sting 5 women late 40s/50s\, 1 woman 60s/70s\, 2 men 50ish. \nAuditions wi
 ll consist of reading selections from the script. Rehearsals will begin on
  March 21. Performances May 5-8 & 12-15\, 2022.\n
X-WR-RELCALID:db3e5da742bb99cf111f08f95159ecb8
X-WR-TIMEZONE:America/New_York
BEGIN:VTIMEZONE
TZID:America/New_York
BEGIN:STANDARD
TZNAME:EST
DTSTART:20211107T020000
TZOFFSETFROM:-0400
TZOFFSETTO:-0500
RDATE:20221106T020000
END:STANDARD
BEGIN:DAYLIGHT
TZNAME:EDT
DTSTART:20210314T020000
TZOFFSETFROM:-0500
TZOFFSETTO:-0400
RDATE:20220313T020000
RDATE:20230312T020000
END:DAYLIGHT
END:VTIMEZONE
BEGIN:VEVENT
UID:ab586905-210e-4a09-ad8e-cb87ab20feca
DTSTAMP:20260424T104442Z
DESCRIPTION:A side-splitting Southern comedy directed by Ben Chumley. \nCas
 ting 5 women late 40s/50s\, 1 woman 60s/70s\, 2 men 50ish. \nAuditions wil
 l consist of reading selections from the script. Rehearsals will begin on 
 March 21. Performances May 5-8 & 12-15\, 2022.\n
DTSTART;TZID=America/New_York:20220308T183000
DTEND;TZID=America/New_York:20220308T203000
LOCATION:Tryon Little Theater Workshop\, 516 S. Trade St.\, Tryon\, NC
SUMMARY:Auditions for 'The Hallelujah Girls'
END:VEVENT
END:VCALENDAR
