BEGIN:VCALENDAR
VERSION:2.0
PRODID:-//tltinfo.org//NONSGML kigkonsult.se iCalcreator 2.30.10//
CALSCALE:GREGORIAN
METHOD:PUBLISH
UID:6658063a-e9d3-4284-8999-bcc0a48c5cf5
X-WR-CALDESC:Presented at the TLT Workshop\, 516 S. Trade St.\, Tryon. Tick
 ets $25 for adults\, $12 for students.
X-WR-RELCALID:4088f329e9b194caee936408dc60a4f8
X-WR-TIMEZONE:America/New_York
BEGIN:VTIMEZONE
TZID:America/New_York
BEGIN:STANDARD
TZNAME:EST
DTSTART:20211107T020000
TZOFFSETFROM:-0400
TZOFFSETTO:-0500
RDATE:20221106T020000
END:STANDARD
BEGIN:DAYLIGHT
TZNAME:EDT
DTSTART:20210314T020000
TZOFFSETFROM:-0500
TZOFFSETTO:-0400
RDATE:20220313T020000
RDATE:20230312T020000
END:DAYLIGHT
END:VTIMEZONE
BEGIN:VEVENT
UID:210714a4-a263-4f64-b0dd-d694112209e6
DTSTAMP:20260424T104639Z
DESCRIPTION:Presented at the TLT Workshop\, 516 S. Trade St.\, Tryon. Ticke
 ts $25 for adults\, $12 for students.
DTSTART;TZID=America/New_York:20220306T150000
DTEND;TZID=America/New_York:20220306T170000
LOCATION:
SUMMARY:Smoke on the Mountain
END:VEVENT
END:VCALENDAR
