BEGIN:VCALENDAR
VERSION:2.0
PRODID:-//tltinfo.org//NONSGML kigkonsult.se iCalcreator 2.30.10//
CALSCALE:GREGORIAN
METHOD:PUBLISH
UID:3146b436-01cc-49a2-b192-1d7a180b8758
X-WR-CALDESC:Presented at the TLT Workshop\, 516 S. Trade St.\, Tryon. Tick
 ets $25 for adults\, $12 for students.
X-WR-RELCALID:cacc8e6966424ec71a9ccd0764ef14ad
X-WR-TIMEZONE:America/New_York
BEGIN:VTIMEZONE
TZID:America/New_York
BEGIN:STANDARD
TZNAME:EST
DTSTART:20211107T020000
TZOFFSETFROM:-0400
TZOFFSETTO:-0500
RDATE:20221106T020000
END:STANDARD
BEGIN:DAYLIGHT
TZNAME:EDT
DTSTART:20210314T020000
TZOFFSETFROM:-0500
TZOFFSETTO:-0400
RDATE:20220313T020000
RDATE:20230312T020000
END:DAYLIGHT
END:VTIMEZONE
BEGIN:VEVENT
UID:6dbcb30b-443f-49f9-8f8d-8f42eafd8fdb
DTSTAMP:20260424T105324Z
DESCRIPTION:Presented at the TLT Workshop\, 516 S. Trade St.\, Tryon. Ticke
 ts $25 for adults\, $12 for students.
DTSTART;TZID=America/New_York:20220305T193000
DTEND;TZID=America/New_York:20220305T213000
LOCATION:
SUMMARY:Smoke on the Mountain
END:VEVENT
END:VCALENDAR
